BEGIN:VCALENDAR
VERSION:2.0
PRODID:-//Reading Royals//royalshockey.com//EN
CALSCALE:GREGORIAN
BEGIN:VEVENT
UID:https://royalshockey.com/games/2026/05/02/wheeling-nailers
DTSTAMP:20260420T073458Z
SUMMARY:Wheeling Nailers @ Reading Royals
DTSTART;TZID=Canada/Eastern:20260502T190000
DTEND;TZID=Canada/Eastern:20260502T220000
DESCRIPTION:Wheeling Nailers at Reading Royals
LOCATION:Santander Arena\, Reading\, Pennsylvania
URL;VALUE=URI:https://royalshockey.com/games/2026/05/02/wheeling-nailers
END:VEVENT
END:VCALENDAR
