BEGIN:VCALENDAR
VERSION:2.0
PRODID:-//Reading Royals//royalshockey.com//EN
CALSCALE:GREGORIAN
BEGIN:VEVENT
UID:https://royalshockey.com/games/2026/04/24/wheeling-nailers
DTSTAMP:20260420T074147Z
SUMMARY:Reading Royals @ Wheeling Nailers
DTSTART;TZID=Canada/Eastern:20260424T191000
DTEND;TZID=Canada/Eastern:20260424T221000
DESCRIPTION:Reading Royals at Wheeling Nailers
LOCATION:WesBanco Arena\, Wheeling\, West Virginia
URL;VALUE=URI:https://royalshockey.com/games/2026/04/24/wheeling-nailers
END:VEVENT
END:VCALENDAR
